BEGIN:VCALENDAR
VERSION:2.0
PRODID:-//eventon.com NONSGML v1.0//EN
CALSCALE:GREGORIAN
METHOD:PUBLISH
BEGIN:VEVENT
UID:69e78791cdab6
DTSTAMP:20260421T142001Z
DTSTART:20250910T170000Z
DTEND:20250910T203000Z
LOCATION:Salle Pétrarque 2 place Pétrarque
SUMMARY:Assemblée Générale 2025
DESCRIPTION:Notre assemblée générale se tiendra le 10 septembre prochain
  à 19h30 salle Pétrarque\,  2 place Pétrarque\,  dans le centre historiq
 ue de Montpellier. Vous trouverez dans votre &#8220;Espace Adhérents&#8221
 ; votre convocation. Vous y trouverez un lien vers un questionnaire que nou
 s vous prions de bien vouloir renseigner. Celui-ci permet de recenser[..]\n
 https://association-montpellier-plongee.fr/events/assemblee-generale-2025/
URL:https://association-montpellier-plongee.fr/events/assemblee-generale-2025/
END:VEVENT
END:VCALENDAR